BEGIN:VCALENDAR
VERSION:2.0
PRODID:-//Bundesverband der Konzert und Veranstaltungswirtschaft - ECPv6.11.2.1//NONSGML v1.0//EN
CALSCALE:GREGORIAN
METHOD:PUBLISH
X-WR-CALNAME:Bundesverband der Konzert und Veranstaltungswirtschaft
X-ORIGINAL-URL:https://bdkv.de
X-WR-CALDESC:Veranstaltungen für Bundesverband der Konzert und Veranstaltungswirtschaft
REFRESH-INTERVAL;VALUE=DURATION:PT1H
X-Robots-Tag:noindex
X-PUBLISHED-TTL:PT1H
BEGIN:VTIMEZONE
TZID:Europe/Berlin
BEGIN:DAYLIGHT
TZOFFSETFROM:+0100
TZOFFSETTO:+0200
TZNAME:CEST
DTSTART:20240331T010000
END:DAYLIGHT
BEGIN:STANDARD
TZOFFSETFROM:+0200
TZOFFSETTO:+0100
TZNAME:CET
DTSTART:20241027T010000
END:STANDARD
END:VTIMEZONE
BEGIN:VEVENT
DTSTART;TZID=Europe/Berlin:20240523T110000
DTEND;TZID=Europe/Berlin:20240523T120000
DTSTAMP:20260424T183704
CREATED:20240306T111725Z
LAST-MODIFIED:20240306T161645Z
UID:33424-1716462000-1716465600@bdkv.de
SUMMARY:Ressort Call für alle Mitglieder
DESCRIPTION:Ressort-Call für alle Mitglieder | Daniel Domdey (Local Promoter) und (mehr …)
URL:https://bdkv.de/event/ressort-call-alle-ressorts-20240523/
LOCATION:https://us06web.zoom.us/j/83728475018?pwd=ZVTzyaqgEbSAKaY9IEHcxAs3wAR54t.1
CATEGORIES:Mitglieder
ATTACH;FMTTYPE=image/png:https://bdkv.de/wp-content/uploads/2023/10/Thumbnail_Ressort-Call.png
END:VEVENT
END:VCALENDAR