BEGIN:VCALENDAR
VERSION:2.0
PRODID:-//Bundesverband der Konzert und Veranstaltungswirtschaft - ECPv6.11.2.1//NONSGML v1.0//EN
CALSCALE:GREGORIAN
METHOD:PUBLISH
X-ORIGINAL-URL:https://bdkv.de
X-WR-CALDESC:Veranstaltungen für Bundesverband der Konzert und Veranstaltungswirtschaft
REFRESH-INTERVAL;VALUE=DURATION:PT1H
X-Robots-Tag:noindex
X-PUBLISHED-TTL:PT1H
BEGIN:VTIMEZONE
TZID:Europe/Berlin
BEGIN:DAYLIGHT
TZOFFSETFROM:+0100
TZOFFSETTO:+0200
TZNAME:CEST
DTSTART:20240331T010000
END:DAYLIGHT
BEGIN:STANDARD
TZOFFSETFROM:+0200
TZOFFSETTO:+0100
TZNAME:CET
DTSTART:20241027T010000
END:STANDARD
END:VTIMEZONE
BEGIN:VEVENT
DTSTART;TZID=Europe/Berlin:20240527T100000
DTEND;TZID=Europe/Berlin:20240529T170000
DTSTAMP:20260424T121258
CREATED:20240131T123640Z
LAST-MODIFIED:20240405T092938Z
UID:32569-1716804000-1717002000@bdkv.de
SUMMARY:Webinar: Veranstaltungsleitung
DESCRIPTION:Im Fortbildungsangebot wird Vertiefungswissen für die Übernahme von Leitungs- und (mehr …)
URL:https://bdkv.de/event/webinar-veranstaltungsleitung/
LOCATION:Teams-Meeting
CATEGORIES:Academy,Mitglieder
END:VEVENT
END:VCALENDAR