BEGIN:VCALENDAR
VERSION:2.0
PRODID:-//Bundesverband der Konzert und Veranstaltungswirtschaft - ECPv6.11.2.1//NONSGML v1.0//EN
CALSCALE:GREGORIAN
METHOD:PUBLISH
X-WR-CALNAME:Bundesverband der Konzert und Veranstaltungswirtschaft
X-ORIGINAL-URL:https://bdkv.de
X-WR-CALDESC:Veranstaltungen für Bundesverband der Konzert und Veranstaltungswirtschaft
REFRESH-INTERVAL;VALUE=DURATION:PT1H
X-Robots-Tag:noindex
X-PUBLISHED-TTL:PT1H
BEGIN:VTIMEZONE
TZID:Europe/Berlin
BEGIN:DAYLIGHT
TZOFFSETFROM:+0100
TZOFFSETTO:+0200
TZNAME:CEST
DTSTART:20240331T010000
END:DAYLIGHT
BEGIN:STANDARD
TZOFFSETFROM:+0200
TZOFFSETTO:+0100
TZNAME:CET
DTSTART:20241027T010000
END:STANDARD
END:VTIMEZONE
BEGIN:VEVENT
DTSTART;TZID=Europe/Berlin:20240618T130000
DTEND;TZID=Europe/Berlin:20240618T140000
DTSTAMP:20260424T134823
CREATED:20240417T093409Z
LAST-MODIFIED:20240430T133805Z
UID:33970-1718715600-1718719200@bdkv.de
SUMMARY:Ressort Call: Wort
DESCRIPTION:BDKV Ressort-Call Wort mit Vorstandsmitglied Verena Krämer. Themen aus dem (mehr …)
URL:https://bdkv.de/event/ressort-call-wort-20240618/
LOCATION:https://teams.live.com/meet/9488369624693?p=FxGhhZGbNpoHcfhB
CATEGORIES:Mitglieder
ATTACH;FMTTYPE=image/png:https://bdkv.de/wp-content/uploads/2023/10/Thumbnail_Ressort-Call.png
END:VEVENT
END:VCALENDAR