BEGIN:VCALENDAR
VERSION:2.0
PRODID:-//Bundesverband der Konzert und Veranstaltungswirtschaft - ECPv6.11.2.1//NONSGML v1.0//EN
CALSCALE:GREGORIAN
METHOD:PUBLISH
X-ORIGINAL-URL:https://bdkv.de
X-WR-CALDESC:Veranstaltungen für Bundesverband der Konzert und Veranstaltungswirtschaft
REFRESH-INTERVAL;VALUE=DURATION:PT1H
X-Robots-Tag:noindex
X-PUBLISHED-TTL:PT1H
BEGIN:VTIMEZONE
TZID:Europe/Berlin
BEGIN:DAYLIGHT
TZOFFSETFROM:+0100
TZOFFSETTO:+0200
TZNAME:CEST
DTSTART:20240331T010000
END:DAYLIGHT
BEGIN:STANDARD
TZOFFSETFROM:+0200
TZOFFSETTO:+0100
TZNAME:CET
DTSTART:20241027T010000
END:STANDARD
END:VTIMEZONE
BEGIN:VEVENT
DTSTART;VALUE=DATE:20240821
DTEND;VALUE=DATE:20240826
DTSTAMP:20260419T160817
CREATED:20240712T105709Z
LAST-MODIFIED:20240723T082805Z
UID:35109-1724198400-1724630399@bdkv.de
SUMMARY:Gamescom Köln
DESCRIPTION:Die gamescom ist das weltweit größte Event für Computer- und (mehr …)
URL:https://bdkv.de/event/gamescom-berlin/
LOCATION:Messe Köln
CATEGORIES:Öffentlich
ATTACH;FMTTYPE=image/jpeg:https://bdkv.de/wp-content/uploads/2024/07/gamescom-logo-bildmarke-e1720782560775.jpg
END:VEVENT
END:VCALENDAR