BEGIN:VCALENDAR
VERSION:2.0
PRODID:-//Bundesverband der Konzert und Veranstaltungswirtschaft - ECPv6.11.2.1//NONSGML v1.0//EN
CALSCALE:GREGORIAN
METHOD:PUBLISH
X-WR-CALNAME:Bundesverband der Konzert und Veranstaltungswirtschaft
X-ORIGINAL-URL:https://bdkv.de
X-WR-CALDESC:Veranstaltungen für Bundesverband der Konzert und Veranstaltungswirtschaft
REFRESH-INTERVAL;VALUE=DURATION:PT1H
X-Robots-Tag:noindex
X-PUBLISHED-TTL:PT1H
BEGIN:VTIMEZONE
TZID:Europe/Berlin
BEGIN:DAYLIGHT
TZOFFSETFROM:+0100
TZOFFSETTO:+0200
TZNAME:CEST
DTSTART:20240331T010000
END:DAYLIGHT
BEGIN:STANDARD
TZOFFSETFROM:+0200
TZOFFSETTO:+0100
TZNAME:CET
DTSTART:20241027T010000
END:STANDARD
END:VTIMEZONE
BEGIN:VEVENT
DTSTART;VALUE=DATE:20241011
DTEND;VALUE=DATE:20241014
DTSTAMP:20260419T145356
CREATED:20240219T105017Z
LAST-MODIFIED:20240723T082151Z
UID:33070-1728604800-1728863999@bdkv.de
SUMMARY:OPUS KLASSIK
DESCRIPTION:Der OPUS KLASSIK ist der wichtigste deutsche Preis für klassische (mehr …)
URL:https://bdkv.de/event/opus-klassik/
LOCATION:Bogota
CATEGORIES:Öffentlich
ATTACH;FMTTYPE=image/png:https://bdkv.de/wp-content/uploads/2024/02/Logo_OPUS-KLASSIK.png
END:VEVENT
END:VCALENDAR