BEGIN:VCALENDAR
VERSION:2.0
PRODID:-//Bundesverband der Konzert und Veranstaltungswirtschaft - ECPv6.11.2.1//NONSGML v1.0//EN
CALSCALE:GREGORIAN
METHOD:PUBLISH
X-ORIGINAL-URL:https://bdkv.de
X-WR-CALDESC:Veranstaltungen für Bundesverband der Konzert und Veranstaltungswirtschaft
REFRESH-INTERVAL;VALUE=DURATION:PT1H
X-Robots-Tag:noindex
X-PUBLISHED-TTL:PT1H
BEGIN:VTIMEZONE
TZID:Europe/Berlin
BEGIN:DAYLIGHT
TZOFFSETFROM:+0100
TZOFFSETTO:+0200
TZNAME:CEST
DTSTART:20240331T010000
END:DAYLIGHT
BEGIN:STANDARD
TZOFFSETFROM:+0200
TZOFFSETTO:+0100
TZNAME:CET
DTSTART:20241027T010000
END:STANDARD
END:VTIMEZONE
BEGIN:VEVENT
DTSTART;VALUE=DATE:20241015
DTEND;VALUE=DATE:20241016
DTSTAMP:20260421T135159
CREATED:20240715T093323Z
LAST-MODIFIED:20240723T082140Z
UID:35258-1728950400-1729036799@bdkv.de
SUMMARY:popNRW
DESCRIPTION:Der »popNRW-Preis« für Popmusiker:innen wird bereits zum dreizehnten Mal an (mehr …)
URL:https://bdkv.de/event/popnrw/
LOCATION:Gloria Köln
CATEGORIES:Öffentlich
ATTACH;FMTTYPE=image/jpeg:https://bdkv.de/wp-content/uploads/2024/07/294705671_709058940440113_8978611383976131761_n-e1721036628451.jpg
END:VEVENT
BEGIN:VEVENT
DTSTART;TZID=Europe/Berlin:20241015T120000
DTEND;TZID=Europe/Berlin:20241015T130000
DTSTAMP:20260421T135159
CREATED:20240828T134458Z
LAST-MODIFIED:20240828T134600Z
UID:36077-1728993600-1728997200@bdkv.de
SUMMARY:Netzwerk-Call: Female Voice
DESCRIPTION:Mehr Infos zu Female Voice auf der BDKV-Website. Bei Interesse\, (mehr …)
URL:https://bdkv.de/event/netzwerk-call-female-voice/
LOCATION:Teams-Meeting
CATEGORIES:Mitglieder
ATTACH;FMTTYPE=image/png:https://bdkv.de/wp-content/uploads/2024/08/Female-Voice-Sticker.png
END:VEVENT
BEGIN:VEVENT
DTSTART;VALUE=DATE:20241015
DTEND;VALUE=DATE:20241019
DTSTAMP:20260421T135159
CREATED:20240712T134123Z
LAST-MODIFIED:20240723T082128Z
UID:35137-1729033200-1729292399@bdkv.de
SUMMARY:MaMA Paris
DESCRIPTION:Ein dezentrales Musikfestival in Paris für Professionals der internationalen Musikwirtschaft (mehr …)
URL:https://bdkv.de/event/mama-paris/
LOCATION:Paris
CATEGORIES:Öffentlich
ATTACH;FMTTYPE=image/png:https://bdkv.de/wp-content/uploads/2024/07/Unbenannt.png
END:VEVENT
END:VCALENDAR