BEGIN:VCALENDAR
VERSION:2.0
PRODID:-//Bundesverband der Konzert und Veranstaltungswirtschaft - ECPv6.11.2.1//NONSGML v1.0//EN
CALSCALE:GREGORIAN
METHOD:PUBLISH
X-ORIGINAL-URL:https://bdkv.de
X-WR-CALDESC:Veranstaltungen für Bundesverband der Konzert und Veranstaltungswirtschaft
REFRESH-INTERVAL;VALUE=DURATION:PT1H
X-Robots-Tag:noindex
X-PUBLISHED-TTL:PT1H
BEGIN:VTIMEZONE
TZID:Europe/Berlin
BEGIN:DAYLIGHT
TZOFFSETFROM:+0100
TZOFFSETTO:+0200
TZNAME:CEST
DTSTART:20240331T010000
END:DAYLIGHT
BEGIN:STANDARD
TZOFFSETFROM:+0200
TZOFFSETTO:+0100
TZNAME:CET
DTSTART:20241027T010000
END:STANDARD
END:VTIMEZONE
BEGIN:VEVENT
DTSTART;VALUE=DATE:20241022
DTEND;VALUE=DATE:20241027
DTSTAMP:20260419T143958
CREATED:20250220T111816Z
LAST-MODIFIED:20250220T111816Z
UID:37706-1729555200-1729987199@bdkv.de
SUMMARY:WOMEX - WORLDWIDE MUSIC EXPO 2025
DESCRIPTION:Die Worldwide Music Expo ist ein internationales und kulturell vielfältiges (mehr …)
URL:https://bdkv.de/event/womex-worldwide-music-expo-2025/
LOCATION:Finnland
CATEGORIES:Öffentlich
ATTACH;FMTTYPE=image/png:https://bdkv.de/wp-content/uploads/2024/07/womex24_logo_800_black.png
END:VEVENT
BEGIN:VEVENT
DTSTART;VALUE=DATE:20241023
DTEND;VALUE=DATE:20241028
DTSTAMP:20260419T143958
CREATED:20240712T155546Z
LAST-MODIFIED:20240723T082105Z
UID:35179-1729641600-1730073599@bdkv.de
SUMMARY:WOMEX - WORLDWIDE MUSIC EXPO
DESCRIPTION:Die Worldwide Music Expo ist ein internationales und kulturell vielfältiges (mehr …)
URL:https://bdkv.de/event/womex-worldwide-music-expo/
LOCATION:Manchester\, England
CATEGORIES:Öffentlich
ATTACH;FMTTYPE=image/png:https://bdkv.de/wp-content/uploads/2024/07/womex24_logo_800_black.png
END:VEVENT
BEGIN:VEVENT
DTSTART;VALUE=DATE:20241024
DTEND;VALUE=DATE:20241026
DTSTAMP:20260419T143958
CREATED:20240712T155027Z
LAST-MODIFIED:20240723T082053Z
UID:35176-1729728000-1729900799@bdkv.de
SUMMARY:Stadt Nach Acht
DESCRIPTION:Die „Stadt Nach Acht“ Konferenz bringt verschiedene Akteur*innen des Nachtlebens (mehr …)
URL:https://bdkv.de/event/stadt-nach-acht/
CATEGORIES:Öffentlich
ATTACH;FMTTYPE=image/jpeg:https://bdkv.de/wp-content/uploads/2024/07/Logo-2024_2a_2-300x300-1.jpg
END:VEVENT
END:VCALENDAR