BEGIN:VCALENDAR
VERSION:2.0
PRODID:-//Bundesverband der Konzert und Veranstaltungswirtschaft - ECPv6.11.2.1//NONSGML v1.0//EN
CALSCALE:GREGORIAN
METHOD:PUBLISH
X-WR-CALNAME:Bundesverband der Konzert und Veranstaltungswirtschaft
X-ORIGINAL-URL:https://bdkv.de
X-WR-CALDESC:Veranstaltungen für Bundesverband der Konzert und Veranstaltungswirtschaft
REFRESH-INTERVAL;VALUE=DURATION:PT1H
X-Robots-Tag:noindex
X-PUBLISHED-TTL:PT1H
BEGIN:VTIMEZONE
TZID:Europe/Berlin
BEGIN:DAYLIGHT
TZOFFSETFROM:+0100
TZOFFSETTO:+0200
TZNAME:CEST
DTSTART:20240331T010000
END:DAYLIGHT
BEGIN:STANDARD
TZOFFSETFROM:+0200
TZOFFSETTO:+0100
TZNAME:CET
DTSTART:20241027T010000
END:STANDARD
END:VTIMEZONE
BEGIN:VEVENT
DTSTART;VALUE=DATE:20241112
DTEND;VALUE=DATE:20241113
DTSTAMP:20260419T163157
CREATED:20240712T151229Z
LAST-MODIFIED:20240723T081817Z
UID:35163-1731369600-1731455999@bdkv.de
SUMMARY:LISTEN TO BERLIN: AWARDS
DESCRIPTION:Musikpreisverleihung der Berlin Music Commission mit den Kategorien: Innovation in (mehr …)
URL:https://bdkv.de/event/listen-to-berlin-awards/
LOCATION:Bogota
CATEGORIES:Öffentlich
ATTACH;FMTTYPE=image/jpeg:https://bdkv.de/wp-content/uploads/2024/07/326775580_597226448908397_4207298295413209829_n-e1720797127427.jpg
END:VEVENT
BEGIN:VEVENT
DTSTART;TZID=Europe/Berlin:20241112T100000
DTEND;TZID=Europe/Berlin:20241112T180000
DTSTAMP:20260419T163157
CREATED:20240703T095507Z
LAST-MODIFIED:20241029T172441Z
UID:34799-1731405600-1731434400@bdkv.de
SUMMARY:BDKV Mitgliederversammlung
DESCRIPTION:Am Dienstag\, den 12. November 2024 findet die jährliche Mitgliederversammlung des BDKV statt. (mehr …)
URL:https://bdkv.de/event/bdkv-mitgliederversammlung/
LOCATION:https://bdkv.de/bdkv-mitgliederversammlung-am-12-november-2024/
CATEGORIES:Mitglieder
ATTACH;FMTTYPE=image/png:https://bdkv.de/wp-content/uploads/2023/10/Thumbnail_BDKV-mit-Claim.png
END:VEVENT
END:VCALENDAR