BEGIN:VCALENDAR
VERSION:2.0
PRODID:-//Bundesverband der Konzert und Veranstaltungswirtschaft - ECPv6.11.2.1//NONSGML v1.0//EN
CALSCALE:GREGORIAN
METHOD:PUBLISH
X-ORIGINAL-URL:https://bdkv.de
X-WR-CALDESC:Veranstaltungen für Bundesverband der Konzert und Veranstaltungswirtschaft
REFRESH-INTERVAL;VALUE=DURATION:PT1H
X-Robots-Tag:noindex
X-PUBLISHED-TTL:PT1H
BEGIN:VTIMEZONE
TZID:Europe/Berlin
BEGIN:DAYLIGHT
TZOFFSETFROM:+0100
TZOFFSETTO:+0200
TZNAME:CEST
DTSTART:20240331T010000
END:DAYLIGHT
BEGIN:STANDARD
TZOFFSETFROM:+0200
TZOFFSETTO:+0100
TZNAME:CET
DTSTART:20241027T010000
END:STANDARD
END:VTIMEZONE
BEGIN:VEVENT
DTSTART;VALUE=DATE:20241117
DTEND;VALUE=DATE:20241124
DTSTAMP:20260419T180249
CREATED:20240712T134749Z
LAST-MODIFIED:20240723T081529Z
UID:35141-1731884400-1732402799@bdkv.de
SUMMARY:Linecheck 2024
DESCRIPTION:Musikfestival und Branchenevent in Mailand. (mehr …)
URL:https://bdkv.de/event/linecheck/
LOCATION:Mailand\, Italien
CATEGORIES:Öffentlich
ATTACH;FMTTYPE=image/jpeg:https://bdkv.de/wp-content/uploads/2024/07/438098923_442388725133865_1340899214177170285_n-e1720792873851.jpg
END:VEVENT
END:VCALENDAR