BEGIN:VCALENDAR
VERSION:2.0
PRODID:-//Bundesverband der Konzert und Veranstaltungswirtschaft - ECPv6.11.2.1//NONSGML v1.0//EN
CALSCALE:GREGORIAN
METHOD:PUBLISH
X-ORIGINAL-URL:https://bdkv.de
X-WR-CALDESC:Veranstaltungen für Bundesverband der Konzert und Veranstaltungswirtschaft
REFRESH-INTERVAL;VALUE=DURATION:PT1H
X-Robots-Tag:noindex
X-PUBLISHED-TTL:PT1H
BEGIN:VTIMEZONE
TZID:Europe/Berlin
BEGIN:DAYLIGHT
TZOFFSETFROM:+0100
TZOFFSETTO:+0200
TZNAME:CEST
DTSTART:20240331T010000
END:DAYLIGHT
BEGIN:STANDARD
TZOFFSETFROM:+0200
TZOFFSETTO:+0100
TZNAME:CET
DTSTART:20241027T010000
END:STANDARD
END:VTIMEZONE
BEGIN:VEVENT
DTSTART;VALUE=DATE:20241125
DTEND;VALUE=DATE:20241127
DTSTAMP:20260419T163343
CREATED:20241030T161655Z
LAST-MODIFIED:20241030T161655Z
UID:36514-1732492800-1732665599@bdkv.de
SUMMARY:FAMA-Messefachtagung Herbst 2024
DESCRIPTION:Die Messefachtagung des FAMA Fachverband Messen und Ausstellungen e.V. 25. (mehr …)
URL:https://bdkv.de/event/fama-messefachtagung-herbst-2024/
LOCATION:Köln
CATEGORIES:Öffentlich
ATTACH;FMTTYPE=image/png:https://bdkv.de/wp-content/uploads/2024/10/Logo_fama.png
END:VEVENT
BEGIN:VEVENT
DTSTART;VALUE=DATE:20241125
DTEND;VALUE=DATE:20241127
DTSTAMP:20260419T163343
CREATED:20250220T102928Z
LAST-MODIFIED:20250220T102928Z
UID:37689-1732492800-1732665599@bdkv.de
SUMMARY:FAMA-Messefachtagung 2025
DESCRIPTION:Die FAMA Messefachtagung bietet eine ausgezeichnete Gelegenheit für Fachleute aus (mehr …)
URL:https://bdkv.de/event/fama2025/
LOCATION:Köln
CATEGORIES:Öffentlich
ATTACH;FMTTYPE=image/png:https://bdkv.de/wp-content/uploads/2024/10/Logo_fama.png
END:VEVENT
END:VCALENDAR