BEGIN:VCALENDAR
VERSION:2.0
PRODID:-//Bundesverband der Konzert und Veranstaltungswirtschaft - ECPv6.11.2.1//NONSGML v1.0//EN
CALSCALE:GREGORIAN
METHOD:PUBLISH
X-WR-CALNAME:Bundesverband der Konzert und Veranstaltungswirtschaft
X-ORIGINAL-URL:https://bdkv.de
X-WR-CALDESC:Veranstaltungen für Bundesverband der Konzert und Veranstaltungswirtschaft
REFRESH-INTERVAL;VALUE=DURATION:PT1H
X-Robots-Tag:noindex
X-PUBLISHED-TTL:PT1H
BEGIN:VTIMEZONE
TZID:Europe/Berlin
BEGIN:DAYLIGHT
TZOFFSETFROM:+0100
TZOFFSETTO:+0200
TZNAME:CEST
DTSTART:20240331T010000
END:DAYLIGHT
BEGIN:STANDARD
TZOFFSETFROM:+0200
TZOFFSETTO:+0100
TZNAME:CET
DTSTART:20241027T010000
END:STANDARD
END:VTIMEZONE
BEGIN:VEVENT
DTSTART;VALUE=DATE:20241127
DTEND;VALUE=DATE:20241130
DTSTAMP:20260419T163208
CREATED:20240523T115133Z
LAST-MODIFIED:20240723T081512Z
UID:34491-1732748400-1732921199@bdkv.de
SUMMARY:Future of Festivals 2024
DESCRIPTION:Branchentreffen für alle Veranstalter*innen\, Dienstleistende\, Verbände\, Entscheider*innen und Auszubildende aus (mehr …)
URL:https://bdkv.de/event/future-of-festivals-2024/
LOCATION:Arena Berlin
CATEGORIES:Öffentlich
ATTACH;FMTTYPE=image/png:https://bdkv.de/wp-content/uploads/2024/05/FOF_Logo_Social_Media.png
END:VEVENT
END:VCALENDAR