BEGIN:VCALENDAR
VERSION:2.0
PRODID:-//Bundesverband der Konzert und Veranstaltungswirtschaft - ECPv6.11.2.1//NONSGML v1.0//EN
CALSCALE:GREGORIAN
METHOD:PUBLISH
X-ORIGINAL-URL:https://bdkv.de
X-WR-CALDESC:Veranstaltungen für Bundesverband der Konzert und Veranstaltungswirtschaft
REFRESH-INTERVAL;VALUE=DURATION:PT1H
X-Robots-Tag:noindex
X-PUBLISHED-TTL:PT1H
BEGIN:VTIMEZONE
TZID:Europe/Berlin
BEGIN:DAYLIGHT
TZOFFSETFROM:+0100
TZOFFSETTO:+0200
TZNAME:CEST
DTSTART:20240331T010000
END:DAYLIGHT
BEGIN:STANDARD
TZOFFSETFROM:+0200
TZOFFSETTO:+0100
TZNAME:CET
DTSTART:20241027T010000
END:STANDARD
END:VTIMEZONE
BEGIN:VEVENT
DTSTART;TZID=Europe/Berlin:20240604T140000
DTEND;TZID=Europe/Berlin:20240604T153000
DTSTAMP:20260422T122510
CREATED:20240515T110322Z
LAST-MODIFIED:20240515T110322Z
UID:34425-1717509600-1717515000@bdkv.de
SUMMARY:BDKV Infosession Scheinselbständigkeit | Rechtsichere Beauftragung für Künstlermanager\, Clubs\, Festivals und Tourneebetrieb
DESCRIPTION:Was passiert\, wenn plötzlich Sozialversicherungsbeiträge für Ihre Produktionsleitung oder Tourmanager auf (mehr …)
URL:https://bdkv.de/event/bdkv-infosession-scheinselbstaendigkeit/
LOCATION:https://events.teams.microsoft.com/event/08dafce9-3b9f-4059-b75c-d63eb59dacb3@f70b04d4-009f-405e-8e38-195e987df4b7
CATEGORIES:Academy,Mitglieder
END:VEVENT
BEGIN:VEVENT
DTSTART;TZID=Europe/Berlin:20240618T130000
DTEND;TZID=Europe/Berlin:20240618T140000
DTSTAMP:20260422T122510
CREATED:20240417T093409Z
LAST-MODIFIED:20240430T133805Z
UID:33970-1718715600-1718719200@bdkv.de
SUMMARY:Ressort Call: Wort
DESCRIPTION:BDKV Ressort-Call Wort mit Vorstandsmitglied Verena Krämer. Themen aus dem (mehr …)
URL:https://bdkv.de/event/ressort-call-wort-20240618/
LOCATION:https://teams.live.com/meet/9488369624693?p=FxGhhZGbNpoHcfhB
CATEGORIES:Mitglieder
ATTACH;FMTTYPE=image/png:https://bdkv.de/wp-content/uploads/2023/10/Thumbnail_Ressort-Call.png
END:VEVENT
BEGIN:VEVENT
DTSTART;TZID=Europe/Berlin:20240626T140000
DTEND;TZID=Europe/Berlin:20240626T153000
DTSTAMP:20260422T122510
CREATED:20240430T134105Z
LAST-MODIFIED:20240430T134105Z
UID:34211-1719410400-1719415800@bdkv.de
SUMMARY:Digitale BDKV Halbjahresbilanz
DESCRIPTION:Wo stehen wir mit unseren vielen Themen in der Mitte (mehr …)
URL:https://bdkv.de/event/digitale-bdkv-halbjahresbilanz/
LOCATION:https://events.teams.microsoft.com/event/267b64af-44b9-40d2-94ab-03d6558cf69b@f70b04d4-009f-405e-8e38-195e987df4b7
CATEGORIES:Mitglieder
ATTACH;FMTTYPE=image/png:https://bdkv.de/wp-content/uploads/2023/10/Thumbnail_BDKV-mit-Claim.png
END:VEVENT
END:VCALENDAR