BEGIN:VCALENDAR
VERSION:2.0
PRODID:-//Bundesverband der Konzert und Veranstaltungswirtschaft - ECPv6.11.2.1//NONSGML v1.0//EN
CALSCALE:GREGORIAN
METHOD:PUBLISH
X-WR-CALNAME:Bundesverband der Konzert und Veranstaltungswirtschaft
X-ORIGINAL-URL:https://bdkv.de
X-WR-CALDESC:Veranstaltungen für Bundesverband der Konzert und Veranstaltungswirtschaft
REFRESH-INTERVAL;VALUE=DURATION:PT1H
X-Robots-Tag:noindex
X-PUBLISHED-TTL:PT1H
BEGIN:VTIMEZONE
TZID:Europe/Berlin
BEGIN:DAYLIGHT
TZOFFSETFROM:+0100
TZOFFSETTO:+0200
TZNAME:CEST
DTSTART:20260329T010000
END:DAYLIGHT
BEGIN:STANDARD
TZOFFSETFROM:+0200
TZOFFSETTO:+0100
TZNAME:CET
DTSTART:20261025T010000
END:STANDARD
END:VTIMEZONE
BEGIN:VEVENT
DTSTART;TZID=Europe/Berlin:20260205T110000
DTEND;TZID=Europe/Berlin:20260205T120000
DTSTAMP:20260421T122740
CREATED:20260120T145228Z
LAST-MODIFIED:20260121T092046Z
UID:42165-1770289200-1770292800@bdkv.de
SUMMARY:BDKV Infocall | Was läuft grad bei der GWVR und was bedeutet eine GWVR-Mitgliedschaft in der Praxis?
DESCRIPTION:Längst werden Konzerte und Veranstaltungen nicht mehr nur live erlebt\, (mehr …)
URL:https://bdkv.de/event/bdkv-infocall-was-laeuft-grad-bei-der-gwvr-und-was-bedeutet-eine-gwvr-mitgliedschaft-in-der-praxis/
LOCATION:Teams-Webinar
CATEGORIES:Academy,Mitglieder
ATTACH;FMTTYPE=image/png:https://bdkv.de/wp-content/uploads/2023/10/GWVR-Logo-Centered.png
END:VEVENT
BEGIN:VEVENT
DTSTART;TZID=Europe/Berlin:20260210T140000
DTEND;TZID=Europe/Berlin:20260210T150000
DTSTAMP:20260421T122740
CREATED:20251105T131708Z
LAST-MODIFIED:20260204T124303Z
UID:41273-1770732000-1770735600@bdkv.de
SUMMARY:Ressort Call: Klassik Local Promoter - KI-Einsatz in der Klassik
DESCRIPTION:Ressort Call mit Vorstandsmitglied Michaela Russ mit Justiziar Götz Schneider-Rothhaar (mehr …)
URL:https://bdkv.de/event/ressort-call-klassik-local-promoter-20260210/
LOCATION:https://teams.microsoft.com/meet/32385537309946?p=vYoTE4l1B3WKA7KIqK
CATEGORIES:Mitglieder
ATTACH;FMTTYPE=image/png:https://bdkv.de/wp-content/uploads/2023/10/Thumbnail_Ressort-Call.png
END:VEVENT
BEGIN:VEVENT
DTSTART;TZID=Europe/Berlin:20260217T100000
DTEND;TZID=Europe/Berlin:20260217T110000
DTSTAMP:20260421T122740
CREATED:20260212T144227Z
LAST-MODIFIED:20260212T145521Z
UID:42580-1771322400-1771326000@bdkv.de
SUMMARY:TeleTax | Umsatzsteuer bei Streaming und Hybridveranstaltungen
DESCRIPTION:Streaming- und Hybridveranstaltungen stellen besondere umsatzsteuerliche Anforderungen – vor allem (mehr …)
URL:https://bdkv.de/event/teletax-umsatzsteuer-bei-streaming-und-hybridveranstaltungen/
LOCATION:Digital
CATEGORIES:Academy,Öffentlich
ATTACH;FMTTYPE=image/png:https://bdkv.de/wp-content/uploads/2025/12/Logo_gross.png
END:VEVENT
BEGIN:VEVENT
DTSTART;TZID=Europe/Berlin:20260218T100000
DTEND;TZID=Europe/Berlin:20260218T110000
DTSTAMP:20260421T122740
CREATED:20251218T123715Z
LAST-MODIFIED:20251218T123715Z
UID:41682-1771408800-1771412400@bdkv.de
SUMMARY:12. BDKV Nachhaltigkeits-Frühstück | Impact durch Ticketing – Wie der Vorverkauf Teil eines ganzheitlichen Nachhaltigkeitskonzepts wird
DESCRIPTION:Im ersten Nachhaltigkeitsfrühstück 2026 beantwortet The Changency\, welche Rolle das Ticketing in (mehr …)
URL:https://bdkv.de/event/12-bdkv-nachhaltigkeits-fruehstueck-impact-durch-ticketing-wie-der-vorverkauf-teil-eines-ganzheitlichen-nachhaltigkeitskonzepts-wird/
LOCATION:Teams-Meeting
CATEGORIES:Academy,Mitglieder
ATTACH;FMTTYPE=image/png:https://bdkv.de/wp-content/uploads/2025/02/Bild1.jpg.png
END:VEVENT
BEGIN:VEVENT
DTSTART;TZID=Europe/Berlin:20260219T100000
DTEND;TZID=Europe/Berlin:20260219T113000
DTSTAMP:20260421T122740
CREATED:20260212T152559Z
LAST-MODIFIED:20260212T152559Z
UID:42587-1771495200-1771500600@bdkv.de
SUMMARY:TeleTax | Korrekte Rechnungsstellung bei komplexen Veranstaltungsleistungen
DESCRIPTION:Komplexe Veranstaltungsleistungen bringen schnell mehrere Umsatzsteuersätze in einer Rechnung zusammen (mehr …)
URL:https://bdkv.de/event/teletax-korrekte-rechnungsstellung-bei-komplexen-veranstaltungsleistungen/
LOCATION:Digital
CATEGORIES:Academy,Öffentlich
ATTACH;FMTTYPE=image/png:https://bdkv.de/wp-content/uploads/2025/12/Logo_gross.png
END:VEVENT
END:VCALENDAR