BEGIN:VCALENDAR
VERSION:2.0
PRODID:-//Bundesverband der Konzert und Veranstaltungswirtschaft - ECPv6.11.2.1//NONSGML v1.0//EN
CALSCALE:GREGORIAN
METHOD:PUBLISH
X-WR-CALNAME:Bundesverband der Konzert und Veranstaltungswirtschaft
X-ORIGINAL-URL:https://bdkv.de
X-WR-CALDESC:Veranstaltungen für Bundesverband der Konzert und Veranstaltungswirtschaft
REFRESH-INTERVAL;VALUE=DURATION:PT1H
X-Robots-Tag:noindex
X-PUBLISHED-TTL:PT1H
BEGIN:VTIMEZONE
TZID:Europe/Berlin
BEGIN:DAYLIGHT
TZOFFSETFROM:+0100
TZOFFSETTO:+0200
TZNAME:CEST
DTSTART:20260329T010000
END:DAYLIGHT
BEGIN:STANDARD
TZOFFSETFROM:+0200
TZOFFSETTO:+0100
TZNAME:CET
DTSTART:20261025T010000
END:STANDARD
END:VTIMEZONE
BEGIN:VEVENT
DTSTART;TZID=Europe/Berlin:20260312T100000
DTEND;TZID=Europe/Berlin:20260312T130000
DTSTAMP:20260419T174906
CREATED:20260212T152803Z
LAST-MODIFIED:20260212T152803Z
UID:42589-1773309600-1773320400@bdkv.de
SUMMARY:TeleTax | Die Top 3 Beitragsfallen in der Sozialversicherung
DESCRIPTION:Freie Mitarbeiter*innen\, Subunternehmer*innen oder mitarbeitende Gesellschafter: Was flexibel klingt\, kann (mehr …)
URL:https://bdkv.de/event/teletax-die-top-3-beitragsfallen-in-der-sozialversicherung/
LOCATION:Digital
CATEGORIES:Academy,Öffentlich
ATTACH;FMTTYPE=image/png:https://bdkv.de/wp-content/uploads/2025/12/Logo_gross.png
END:VEVENT
BEGIN:VEVENT
DTSTART;TZID=Europe/Berlin:20260317T130000
DTEND;TZID=Europe/Berlin:20260317T143000
DTSTAMP:20260419T174906
CREATED:20260225T134256Z
LAST-MODIFIED:20260225T140657Z
UID:42662-1773752400-1773757800@bdkv.de
SUMMARY:BDKV Infosession Scheinselbständigkeit | Rechtssichere Beauftragung für Veranstalter\, Künstlermanager\, Clubs\, Festivals und Tourneebetrieb
DESCRIPTION:Jeder braucht sie\, jeder bucht sie: die Spezialist*innen\, die Macher. (mehr …)
URL:https://bdkv.de/event/bdkv-infosession-scheinselbstaendigkeit-rechtssichere-beauftragung-fuer-veranstalter-kuenstlermanager-clubs-festivals-und-tourneebetrieb/
LOCATION:Teams-Webinar
CATEGORIES:Academy,Mitglieder
ATTACH;FMTTYPE=image/png:https://bdkv.de/wp-content/uploads/2024/07/Thumbnail_Academy.png
END:VEVENT
BEGIN:VEVENT
DTSTART;TZID=Europe/Berlin:20260324T140000
DTEND;TZID=Europe/Berlin:20260324T153000
DTSTAMP:20260419T174906
CREATED:20260212T153006Z
LAST-MODIFIED:20260212T153006Z
UID:42591-1774360800-1774366200@bdkv.de
SUMMARY:TeleTax | Minijobber und Ehrenamt in der Sozialversicherung
DESCRIPTION:Minijob\, kurzfristige Beschäftigung oder Ehrenamt: Kleine Unterschiede entscheiden oft über (mehr …)
URL:https://bdkv.de/event/teletax-minijobber-und-ehrenamt-in-der-sozialversicherung/
LOCATION:Digital
CATEGORIES:Academy,Öffentlich
ATTACH;FMTTYPE=image/png:https://bdkv.de/wp-content/uploads/2025/12/Logo_gross.png
END:VEVENT
BEGIN:VEVENT
DTSTART;TZID=Europe/Berlin:20260326T100000
DTEND;TZID=Europe/Berlin:20260326T113000
DTSTAMP:20260419T174906
CREATED:20260212T153157Z
LAST-MODIFIED:20260212T153157Z
UID:42593-1774519200-1774524600@bdkv.de
SUMMARY:TeleTax | Künstlersozialversicherung & Künstlersozialabgaben (KSA / KSVG)
DESCRIPTION:Wer ist als Künstler*in oder Publizist*in versicherungspflichtig – und wann (mehr …)
URL:https://bdkv.de/event/teletax-kuenstlersozialversicherung-kuenstlersozialabgaben-ksa-ksvg/
LOCATION:Digital
CATEGORIES:Academy,Öffentlich
ATTACH;FMTTYPE=image/png:https://bdkv.de/wp-content/uploads/2025/12/Logo_gross.png
END:VEVENT
END:VCALENDAR