BEGIN:VCALENDAR
VERSION:2.0
PRODID:-//Bundesverband der Konzert und Veranstaltungswirtschaft - ECPv6.11.2.1//NONSGML v1.0//EN
CALSCALE:GREGORIAN
METHOD:PUBLISH
X-WR-CALNAME:Bundesverband der Konzert und Veranstaltungswirtschaft
X-ORIGINAL-URL:https://bdkv.de
X-WR-CALDESC:Veranstaltungen für Bundesverband der Konzert und Veranstaltungswirtschaft
REFRESH-INTERVAL;VALUE=DURATION:PT1H
X-Robots-Tag:noindex
X-PUBLISHED-TTL:PT1H
BEGIN:VTIMEZONE
TZID:Europe/Berlin
BEGIN:DAYLIGHT
TZOFFSETFROM:+0100
TZOFFSETTO:+0200
TZNAME:CEST
DTSTART:20250330T010000
END:DAYLIGHT
BEGIN:STANDARD
TZOFFSETFROM:+0200
TZOFFSETTO:+0100
TZNAME:CET
DTSTART:20251026T010000
END:STANDARD
END:VTIMEZONE
BEGIN:VEVENT
DTSTART;VALUE=DATE:20251205
DTEND;VALUE=DATE:20251206
DTSTAMP:20260420T021356
CREATED:20250915T113903Z
LAST-MODIFIED:20250915T113903Z
UID:40587-1764892800-1764979199@bdkv.de
SUMMARY:Baden-Baden Award 2025
DESCRIPTION:Am 5. Dezember 2025 verleiht die IHK Karlsruhe bereits zum (mehr …)
URL:https://bdkv.de/event/baden-baden-award-2025/
LOCATION:Baden-Baden
CATEGORIES:Öffentlich
ATTACH;FMTTYPE=image/jpeg:https://bdkv.de/wp-content/uploads/2025/09/Baden-Baden-Award-2025.jpeg
END:VEVENT
BEGIN:VEVENT
DTSTART;TZID=Europe/Berlin:20251209T120000
DTEND;TZID=Europe/Berlin:20251210T140000
DTSTAMP:20260420T021356
CREATED:20251030T112414Z
LAST-MODIFIED:20251125T171438Z
UID:41240-1765281600-1765375200@bdkv.de
SUMMARY:BDKV Mitgliederversammlung und Best of Live Award 2025
DESCRIPTION:Am 9. und 10. Dezember findet unsere nächste Mitgliederversammlung statt. (mehr …)
URL:https://bdkv.de/event/bdkv-mitgliederversammlung-2025/
LOCATION:Hotel Palace Berlin\, Budapester Str. 45\, 10787 Berlin
CATEGORIES:Mitglieder
ATTACH;FMTTYPE=image/png:https://bdkv.de/wp-content/uploads/2023/10/Thumbnail_BDKV-mit-Claim.png
END:VEVENT
END:VCALENDAR